BEGIN:VCALENDAR
VERSION:2.0
PRODID:GIGPRESS 2.0 WORDPRESS PLUGIN
CALSCALE:GREGORIAN
X-WR-TIMEZONE:Etc/GMT
METHOD:PUBLISH
BEGIN:VTIMEZONE
TZID:GMT
BEGIN:STANDARD
DTSTART:20071028T010000
TZOFFSETTO:+0000
TZOFFSETFROM:+0000
END:STANDARD
END:VTIMEZONE
BEGIN:VEVENT
SUMMARY:Horace Trahan and the Ossun Express at Hideaway On Lee
DESCRIPTION:Notes: until 10pm 
LOCATION:Hideaway On Lee\, 407 Lee Ave\, Lafayette\, LA\, US
UID:20261017T200000Z-1216-cnleblanc@gmail.com
URL:https://www.horacetrahan.com
DTSTART;VALUE=DATE-TIME;TZID=GMT:20261017T200000Z
DTEND;VALUE=DATE-TIME;TZID=GMT:20261017T200000Z
DTSTAMP:20260423T014938Z
END:VEVENT
END:VCALENDAR