BEGIN:VCALENDAR
VERSION:2.0
PRODID:GIGPRESS 2.0 WORDPRESS PLUGIN
CALSCALE:GREGORIAN
X-WR-TIMEZONE:Etc/GMT
METHOD:PUBLISH
BEGIN:VTIMEZONE
TZID:GMT
BEGIN:STANDARD
DTSTART:20071028T010000
TZOFFSETTO:+0000
TZOFFSETFROM:+0000
END:STANDARD
END:VTIMEZONE
BEGIN:VEVENT
SUMMARY:Horace Trahan and the Ossun Express at Jellystone Park
DESCRIPTION:
LOCATION:Jellystone Park\, 4200 Luke Powers Rd.\, Lake Charles\, LA\, US
UID:20260829-1210-cnleblanc@gmail.com
URL:https://www.horacetrahan.com
DTSTART;VALUE=DATE;TZID=GMT:20260829
DTEND;VALUE=DATE;TZID=GMT:20260829
DTSTAMP:20260423T014852Z
END:VEVENT
END:VCALENDAR