BEGIN:VCALENDAR
VERSION:2.0
PRODID:GIGPRESS 2.0 WORDPRESS PLUGIN
CALSCALE:GREGORIAN
X-WR-TIMEZONE:Etc/GMT
METHOD:PUBLISH
BEGIN:VTIMEZONE
TZID:GMT
BEGIN:STANDARD
DTSTART:20071028T010000
TZOFFSETTO:+0000
TZOFFSETFROM:+0000
END:STANDARD
END:VTIMEZONE
BEGIN:VEVENT
SUMMARY:Horace Trahan and the Ossun Express at Blue Moon Saloon
DESCRIPTION:
LOCATION:Blue Moon Saloon\, 215 East Convent Street\, Lafayette\, LA\, US
UID:20260605-1209-cnleblanc@gmail.com
URL:https://www.horacetrahan.com
DTSTART;VALUE=DATE;TZID=GMT:20260605
DTEND;VALUE=DATE;TZID=GMT:20260605
DTSTAMP:20260423T014847Z
END:VEVENT
END:VCALENDAR