BEGIN:VCALENDAR
VERSION:2.0
PRODID:GIGPRESS 2.0 WORDPRESS PLUGIN
CALSCALE:GREGORIAN
X-WR-TIMEZONE:Etc/GMT
METHOD:PUBLISH
BEGIN:VTIMEZONE
TZID:GMT
BEGIN:STANDARD
DTSTART:20071028T010000
TZOFFSETTO:+0000
TZOFFSETFROM:+0000
END:STANDARD
END:VTIMEZONE
BEGIN:VEVENT
SUMMARY:Horace Trahan and the Ossun Express at Downtown
DESCRIPTION:Notes: until 9pm 
LOCATION:Downtown\, Lake Charles\, LA\, US
UID:20260515T193000Z-1205-cnleblanc@gmail.com
URL:https://www.horacetrahan.com
DTSTART;VALUE=DATE-TIME;TZID=GMT:20260515T193000Z
DTEND;VALUE=DATE-TIME;TZID=GMT:20260515T193000Z
DTSTAMP:20260423T015236Z
END:VEVENT
END:VCALENDAR