BEGIN:VCALENDAR
VERSION:2.0
PRODID:GIGPRESS 2.0 WORDPRESS PLUGIN
CALSCALE:GREGORIAN
X-WR-TIMEZONE:Etc/GMT
METHOD:PUBLISH
BEGIN:VTIMEZONE
TZID:GMT
BEGIN:STANDARD
DTSTART:20071028T010000
TZOFFSETTO:+0000
TZOFFSETFROM:+0000
END:STANDARD
END:VTIMEZONE
BEGIN:VEVENT
SUMMARY:Horace Trahan and the Ossun Express at BJ’s Lounge
DESCRIPTION:Notes: until 10:30pm followed by T Marie 
LOCATION:BJ’s Lounge\, 4301 Burgundy St.\, New Orleans\, LA\, US
UID:20260509T210000Z-1204-cnleblanc@gmail.com
URL:https://www.horacetrahan.com
DTSTART;VALUE=DATE-TIME;TZID=GMT:20260509T210000Z
DTEND;VALUE=DATE-TIME;TZID=GMT:20260509T210000Z
DTSTAMP:20260423T121523Z
END:VEVENT
END:VCALENDAR