BEGIN:VCALENDAR
VERSION:2.0
PRODID:GIGPRESS 2.0 WORDPRESS PLUGIN
CALSCALE:GREGORIAN
X-WR-TIMEZONE:Etc/GMT
METHOD:PUBLISH
BEGIN:VTIMEZONE
TZID:GMT
BEGIN:STANDARD
DTSTART:20071028T010000
TZOFFSETTO:+0000
TZOFFSETFROM:+0000
END:STANDARD
END:VTIMEZONE
BEGIN:VEVENT
SUMMARY:Horace Trahan and the Ossun Express at New Orleans Jazz & Heritage Festival
DESCRIPTION:Notes: 12:20pm 
LOCATION:New Orleans Jazz & Heritage Festival\, New Orleans\, US
UID:20260426T112000Z-1180-cnleblanc@gmail.com
URL:https://www.horacetrahan.com
DTSTART;VALUE=DATE-TIME;TZID=GMT:20260426T112000Z
DTEND;VALUE=DATE-TIME;TZID=GMT:20260426T112000Z
DTSTAMP:20260423T121531Z
END:VEVENT
END:VCALENDAR