BEGIN:VCALENDAR
VERSION:2.0
PRODID:GIGPRESS 2.0 WORDPRESS PLUGIN
CALSCALE:GREGORIAN
X-WR-TIMEZONE:Etc/GMT
METHOD:PUBLISH
BEGIN:VTIMEZONE
TZID:GMT
BEGIN:STANDARD
DTSTART:20071028T010000
TZOFFSETTO:+0000
TZOFFSETFROM:+0000
END:STANDARD
END:VTIMEZONE
BEGIN:VEVENT
SUMMARY:Horace Trahan and the Ossun Express at Crawfish Festival
DESCRIPTION:Notes: until 9:15pm 
LOCATION:Crawfish Festival\, Breaux Bridge\, US
UID:20260502T191500Z-1178-cnleblanc@gmail.com
URL:https://www.horacetrahan.com
DTSTART;VALUE=DATE-TIME;TZID=GMT:20260502T191500Z
DTEND;VALUE=DATE-TIME;TZID=GMT:20260502T191500Z
DTSTAMP:20260423T121651Z
END:VEVENT
END:VCALENDAR