BEGIN:VCALENDAR
VERSION:2.0
PRODID:GIGPRESS 2.0 WORDPRESS PLUGIN
CALSCALE:GREGORIAN
X-WR-TIMEZONE:Etc/GMT
METHOD:PUBLISH
BEGIN:VTIMEZONE
TZID:GMT
BEGIN:STANDARD
DTSTART:20071028T010000
TZOFFSETTO:+0000
TZOFFSETFROM:+0000
END:STANDARD
END:VTIMEZONE
BEGIN:VEVENT
SUMMARY:Horace Trahan and the Ossun Express at Private Party
DESCRIPTION:Notes: until 7:30pm 
LOCATION:Private Party\, Alvin\, TX\, US
UID:20260704T163000Z-1120-cnleblanc@gmail.com
URL:https://www.horacetrahan.com
DTSTART;VALUE=DATE-TIME;TZID=GMT:20260704T163000Z
DTEND;VALUE=DATE-TIME;TZID=GMT:20260704T163000Z
DTSTAMP:20260423T015459Z
END:VEVENT
END:VCALENDAR